BEGIN:VCALENDAR
VERSION:2.0
PRODID:-//BallaratTennis Club - ECPv4.6.24.1//NONSGML v1.0//EN
CALSCALE:GREGORIAN
METHOD:PUBLISH
X-WR-CALNAME:BallaratTennis Club
X-ORIGINAL-URL:https://www.ballarattennisclub.com.au
X-WR-CALDESC:Events for BallaratTennis Club
BEGIN:VEVENT
DTSTART;VALUE=DATE:20190302
DTEND;VALUE=DATE:20190304
DTSTAMP:20190228T032047
CREATED:20190226T231317Z
LAST-MODIFIED:20190226T231317Z
UID:3724-1551484800-1551657599@www.ballarattennisclub.com.au
SUMMARY:BTC vs MCC @ Ballarat
DESCRIPTION:Kicking off March 2019 is the BRC vs MCC Tournament held @ The Ballarat Tennis Club. \n
URL:https://www.ballarattennisclub.com.au/event/btc-vs-mcc-ballarat/
LOCATION:Ballarat Tennis Club\, 388 Larter St\, Canadian\, Ballarat\, VIC\, 3350\, Australia
CATEGORIES:Tournament
ATTACH;FMTTYPE=image/jpeg:https://www.ballarattennisclub.com.au/wp-content/uploads/2018/09/BallaratTennisClubCourt.jpg
ORGANIZER;CN="The%20Ballarat%20Tennis%20Club":MAILTO:pro
END:VEVENT
END:VCALENDAR